BEGIN:VCALENDAR
VERSION:2.0
PRODID:-//cjfhc.org//NONSGML kigkonsult.se iCalcreator 2.30.10//
CALSCALE:GREGORIAN
METHOD:PUBLISH
UID:e47c22ee-c76b-4713-837f-76772ded2acd
X-WR-CALDESC:Registration fee is $50 for CJFHC member hospital employees/$7
 5 for non-member hospital employees.\n\n\nParticipant Materials:  The cost
  is $120 and can be purchased through the AWHONN Store (After purchasing t
 he Workshop\, an email will be sent that contains your participant code an
 d the website to access the prerequisite)\n\nAll materials are downloadabl
 e from your AWHONN webpage under 'My Orders & Downloads'
X-WR-RELCALID:3ab95b46290d9e5959b77577e291f970
X-WR-TIMEZONE:America/New_York
BEGIN:VTIMEZONE
TZID:America/New_York
BEGIN:STANDARD
TZNAME:EST
DTSTART:20251102T020000
TZOFFSETFROM:-0400
TZOFFSETTO:-0500
RDATE:20261101T020000
RDATE:20271107T020000
END:STANDARD
BEGIN:DAYLIGHT
TZNAME:EDT
DTSTART:20260308T020000
TZOFFSETFROM:-0500
TZOFFSETTO:-0400
RDATE:20270314T020000
END:DAYLIGHT
END:VTIMEZONE
BEGIN:VEVENT
UID:2cf0d321-d064-4153-91c7-2cbc36da0815
DTSTAMP:20260421T220805Z
DESCRIPTION:Registration fee is $50 for CJFHC member hospital employees/$75
  for non-member hospital employees.\n\n\nParticipant Materials:  The cost 
 is $120 and can be purchased through the AWHONN Store (After purchasing th
 e Workshop\, an email will be sent that contains your participant code and
  the website to access the prerequisite)\n\nAll materials are downloadable
  from your AWHONN webpage under 'My Orders & Downloads'
DTSTART;TZID=America/New_York:20260529T073000
DTEND;TZID=America/New_York:20260529T163000
LOCATION:Penn Medicine Princeton Health\, One Plainsboro Road\, Plainsboro\
 , NJ 08536 US
SUMMARY:AWHONN Obstetric Patient Safety OB Emergencies Workshop (4th ed) - 
 PENN MEDICINE PRINCETON HEALTH EMPLOYEES ONLY!
END:VEVENT
END:VCALENDAR
