BEGIN:VCALENDAR
VERSION:2.0
PRODID:-//cjfhc.org//NONSGML kigkonsult.se iCalcreator 2.30.10//
CALSCALE:GREGORIAN
METHOD:PUBLISH
UID:71d038df-a7c4-408d-a63b-8cb3e08b0c51
X-WR-CALDESC:RegÃ­strate aquÃ­: https://bit.ly/CNJComunicacion\n\nEn esta ses
 iÃ³n en espaÃ±ol\, aprenderÃ¡s cÃ³mo los bebÃ©s se comunican desde el nacimient
 o y cÃ³mo apoyar el desarrollo del lenguaje a travÃ©s del juego y la interac
 ciÃ³n.\n\nðŸ‘¶Ÿ’¬ Tu bebÃ© ya se estÃ¡ comunicando contigo.\nAprende cÃ³mo entender 
 el llanto\, los gestos y los primeros sonidos de tu bebÃ© en esta sesiÃ³n vi
 rtual. ðŸ§¸œ¨\nFortalece tu conexiÃ³n desde el primer dÃ­a. ðŸ’›nðŸ”—RegÃ­strate\n#Desar
 rolloInfantil #ComunicaciÃ³nBebÃ© #Familias\n_______________________________
 _________\n\n\n
X-WR-RELCALID:f75840a86a08d508b0ee3fe3c7a9726c
X-WR-TIMEZONE:America/New_York
BEGIN:VTIMEZONE
TZID:America/New_York
BEGIN:STANDARD
TZNAME:EST
DTSTART:20251102T020000
TZOFFSETFROM:-0400
TZOFFSETTO:-0500
RDATE:20261101T020000
END:STANDARD
BEGIN:DAYLIGHT
TZNAME:EDT
DTSTART:20260308T020000
TZOFFSETFROM:-0500
TZOFFSETTO:-0400
RDATE:20270314T020000
END:DAYLIGHT
END:VTIMEZONE
BEGIN:VEVENT
UID:56a49316-658d-4348-bcdd-637ca6dad100
DTSTAMP:20260423T145654Z
DESCRIPTION:RegÃ­strate aquÃ­: https://bit.ly/CNJComunicacion\n\nEn esta sesi
 Ã³n en espaÃ±ol\, aprenderÃ¡s cÃ³mo los bebÃ©s se comunican desde el nacimiento
  y cÃ³mo apoyar el desarrollo del lenguaje a travÃ©s del juego y la interacc
 iÃ³n.\n\nðŸ‘¶Ÿ’¬ Tu bebÃ© ya se estÃ¡ comunicando contigo.\nAprende cÃ³mo entender e
 l llanto\, los gestos y los primeros sonidos de tu bebÃ© en esta sesiÃ³n vir
 tual. ðŸ§¸œ¨\nFortalece tu conexiÃ³n desde el primer dÃ­a. ðŸ’›nðŸ”—RegÃ­strate\n#Desarr
 olloInfantil #ComunicaciÃ³nBebÃ© #Familias\n________________________________
 ________\n\n\n
DTSTART;TZID=America/New_York:20260428T170000
DTEND;TZID=America/New_York:20260428T180000
LOCATION:
SUMMARY:ComunicaciÃ³n: Del llanto a palabras (Virtual)
END:VEVENT
END:VCALENDAR
