BEGIN:VCALENDAR
VERSION:2.0
PRODID:-//cjfhc.org//NONSGML kigkonsult.se iCalcreator 2.30.10//
CALSCALE:GREGORIAN
METHOD:PUBLISH
UID:92db014e-41d4-4051-802f-05fbd65f4464
X-WR-CALDESC:
X-WR-RELCALID:4adbcafe63e9ece6798456c9b288b6ad
X-WR-TIMEZONE:America/New_York
BEGIN:VTIMEZONE
TZID:America/New_York
BEGIN:STANDARD
TZNAME:EST
DTSTART:20251102T020000
TZOFFSETFROM:-0400
TZOFFSETTO:-0500
RDATE:20261101T020000
END:STANDARD
BEGIN:DAYLIGHT
TZNAME:EDT
DTSTART:20260308T020000
TZOFFSETFROM:-0500
TZOFFSETTO:-0400
RDATE:20270314T020000
END:DAYLIGHT
END:VTIMEZONE
BEGIN:VEVENT
UID:4babe77d-929d-44bf-a15c-141fda309216
DTSTAMP:20260423T150136Z
DESCRIPTION:
DTSTART;TZID=America/New_York:20260504T110000
DTEND;TZID=America/New_York:20260504T120000
LOCATION:
SUMMARY:Mindful Moms
END:VEVENT
END:VCALENDAR
