BEGIN:VCALENDAR
VERSION:2.0
PRODID:-//cjfhc.org//NONSGML kigkonsult.se iCalcreator 2.30.10//
CALSCALE:GREGORIAN
METHOD:PUBLISH
UID:e524cbe1-d09e-40aa-a5dc-db10cc5d4a08
X-WR-CALDESC:
X-WR-RELCALID:0400a0cd0f940b40121ea2217d30698d
X-WR-TIMEZONE:America/New_York
BEGIN:VTIMEZONE
TZID:America/New_York
BEGIN:STANDARD
TZNAME:EST
DTSTART:20251102T020000
TZOFFSETFROM:-0400
TZOFFSETTO:-0500
RDATE:20261101T020000
RDATE:20271107T020000
END:STANDARD
BEGIN:DAYLIGHT
TZNAME:EDT
DTSTART:20260308T020000
TZOFFSETFROM:-0500
TZOFFSETTO:-0400
RDATE:20270314T020000
END:DAYLIGHT
END:VTIMEZONE
BEGIN:VEVENT
UID:a91989b8-2c17-4042-aea5-8f4050f77bfa
DTSTAMP:20260423T150310Z
DESCRIPTION:
DTSTART;TZID=America/New_York:20260518T110000
DTEND;TZID=America/New_York:20260518T120000
LOCATION:
SUMMARY:Mindful Moms
END:VEVENT
END:VCALENDAR
