BEGIN:VCALENDAR
VERSION:2.0
PRODID:-//cjfhc.org//NONSGML kigkonsult.se iCalcreator 2.30.10//
CALSCALE:GREGORIAN
METHOD:PUBLISH
UID:3b2f0b55-2159-44de-8056-f25791c59bd4
X-WR-CALDESC:
X-WR-RELCALID:9188f92644ae991cefcab01199d5c631
X-WR-TIMEZONE:America/New_York
BEGIN:VTIMEZONE
TZID:America/New_York
BEGIN:STANDARD
TZNAME:EST
DTSTART:20251102T020000
TZOFFSETFROM:-0400
TZOFFSETTO:-0500
RDATE:20261101T020000
RDATE:20271107T020000
END:STANDARD
BEGIN:DAYLIGHT
TZNAME:EDT
DTSTART:20260308T020000
TZOFFSETFROM:-0500
TZOFFSETTO:-0400
RDATE:20270314T020000
END:DAYLIGHT
END:VTIMEZONE
BEGIN:VEVENT
UID:ec097ebb-9cb9-46f3-9d3b-af949dd25c4c
DTSTAMP:20260423T150210Z
DESCRIPTION:
DTSTART;TZID=America/New_York:20260525T110000
DTEND;TZID=America/New_York:20260525T120000
LOCATION:
SUMMARY:Mindful Moms
END:VEVENT
END:VCALENDAR
