BEGIN:VCALENDAR
VERSION:2.0
PRODID:-//cjfhc.org//NONSGML kigkonsult.se iCalcreator 2.30.10//
CALSCALE:GREGORIAN
METHOD:PUBLISH
UID:ac7d0036-dd7d-4caf-9666-21257de3d4c6
X-WR-CALDESC:
X-WR-RELCALID:ab5a349d3fedb25e6a6f272fd37b62a6
X-WR-TIMEZONE:America/New_York
BEGIN:VTIMEZONE
TZID:America/New_York
BEGIN:STANDARD
TZNAME:EST
DTSTART:20251102T020000
TZOFFSETFROM:-0400
TZOFFSETTO:-0500
RDATE:20261101T020000
RDATE:20271107T020000
END:STANDARD
BEGIN:DAYLIGHT
TZNAME:EDT
DTSTART:20260308T020000
TZOFFSETFROM:-0500
TZOFFSETTO:-0400
RDATE:20270314T020000
END:DAYLIGHT
END:VTIMEZONE
BEGIN:VEVENT
UID:cb8fcd4e-9d0f-4b50-8a04-640c2be4dbfc
DTSTAMP:20260423T150006Z
DESCRIPTION:
DTSTART;TZID=America/New_York:20260601T110000
DTEND;TZID=America/New_York:20260601T120000
LOCATION:
SUMMARY:Mindful Moms
END:VEVENT
END:VCALENDAR
