BEGIN:VCALENDAR
VERSION:2.0
PRODID:-//cjfhc.org//NONSGML kigkonsult.se iCalcreator 2.30.10//
CALSCALE:GREGORIAN
METHOD:PUBLISH
UID:f1a78810-98b1-4fca-aca6-1e326dd2269c
X-WR-CALDESC:
X-WR-RELCALID:b33f6a88b12a73bca3e8d7aa431d8e48
X-WR-TIMEZONE:America/New_York
BEGIN:VTIMEZONE
TZID:America/New_York
BEGIN:STANDARD
TZNAME:EST
DTSTART:20251102T020000
TZOFFSETFROM:-0400
TZOFFSETTO:-0500
RDATE:20261101T020000
RDATE:20271107T020000
END:STANDARD
BEGIN:DAYLIGHT
TZNAME:EDT
DTSTART:20260308T020000
TZOFFSETFROM:-0500
TZOFFSETTO:-0400
RDATE:20270314T020000
END:DAYLIGHT
END:VTIMEZONE
BEGIN:VEVENT
UID:28516477-9f46-484a-b558-f8aa23439c9a
DTSTAMP:20260423T150136Z
DESCRIPTION:
DTSTART;TZID=America/New_York:20260608T110000
DTEND;TZID=America/New_York:20260608T120000
LOCATION:
SUMMARY:Mindful Moms
END:VEVENT
END:VCALENDAR
