BEGIN:VCALENDAR
VERSION:2.0
PRODID:-//cjfhc.org//NONSGML kigkonsult.se iCalcreator 2.30.10//
CALSCALE:GREGORIAN
METHOD:PUBLISH
UID:37478d2a-b0f8-4cac-88af-11fef33feb4e
X-WR-CALDESC:
X-WR-RELCALID:e37c2d40597bc9b4880f6f32b9be0478
X-WR-TIMEZONE:America/New_York
BEGIN:VTIMEZONE
TZID:America/New_York
BEGIN:STANDARD
TZNAME:EST
DTSTART:20251102T020000
TZOFFSETFROM:-0400
TZOFFSETTO:-0500
RDATE:20261101T020000
RDATE:20271107T020000
END:STANDARD
BEGIN:DAYLIGHT
TZNAME:EDT
DTSTART:20260308T020000
TZOFFSETFROM:-0500
TZOFFSETTO:-0400
RDATE:20270314T020000
END:DAYLIGHT
END:VTIMEZONE
BEGIN:VEVENT
UID:95cad1d3-8c6b-4116-a85e-67bcd7836f8d
DTSTAMP:20260423T162658Z
DESCRIPTION:
DTSTART;TZID=America/New_York:20260615T110000
DTEND;TZID=America/New_York:20260615T120000
LOCATION:
SUMMARY:Mindful Moms
END:VEVENT
END:VCALENDAR
