BEGIN:VCALENDAR
VERSION:2.0
PRODID:-//cjfhc.org//NONSGML kigkonsult.se iCalcreator 2.30.10//
CALSCALE:GREGORIAN
METHOD:PUBLISH
UID:bf50fadd-f426-463b-a985-9732d6a452a1
X-WR-CALDESC:
X-WR-RELCALID:44567a4e048dfbc922f95a092caba884
X-WR-TIMEZONE:America/New_York
BEGIN:VTIMEZONE
TZID:America/New_York
BEGIN:STANDARD
TZNAME:EST
DTSTART:20251102T020000
TZOFFSETFROM:-0400
TZOFFSETTO:-0500
RDATE:20261101T020000
RDATE:20271107T020000
END:STANDARD
BEGIN:DAYLIGHT
TZNAME:EDT
DTSTART:20260308T020000
TZOFFSETFROM:-0500
TZOFFSETTO:-0400
RDATE:20270314T020000
END:DAYLIGHT
END:VTIMEZONE
BEGIN:VEVENT
UID:b07e7420-a144-4296-9192-6d44419cc96a
DTSTAMP:20260423T150002Z
DESCRIPTION:
DTSTART;TZID=America/New_York:20260629T110000
DTEND;TZID=America/New_York:20260629T120000
LOCATION:
SUMMARY:Mindful Moms
END:VEVENT
END:VCALENDAR
