BEGIN:VCALENDAR
VERSION:2.0
PRODID:-//cjfhc.org//NONSGML kigkonsult.se iCalcreator 2.30.10//
CALSCALE:GREGORIAN
METHOD:PUBLISH
UID:6f52bbb2-4365-4914-9823-9bfba28e7b29
X-WR-CALDESC:
X-WR-RELCALID:bbd09f28343b9ba017c34e080a4a0776
X-WR-TIMEZONE:America/New_York
BEGIN:VTIMEZONE
TZID:America/New_York
BEGIN:STANDARD
TZNAME:EST
DTSTART:20251102T020000
TZOFFSETFROM:-0400
TZOFFSETTO:-0500
RDATE:20261101T020000
RDATE:20271107T020000
END:STANDARD
BEGIN:DAYLIGHT
TZNAME:EDT
DTSTART:20260308T020000
TZOFFSETFROM:-0500
TZOFFSETTO:-0400
RDATE:20270314T020000
END:DAYLIGHT
END:VTIMEZONE
BEGIN:VEVENT
UID:2a5f638e-f00b-462f-857d-273994238e95
DTSTAMP:20260423T150001Z
DESCRIPTION:
DTSTART;TZID=America/New_York:20260706T110000
DTEND;TZID=America/New_York:20260706T120000
LOCATION:
SUMMARY:Mindful Moms
END:VEVENT
END:VCALENDAR
