BEGIN:VCALENDAR
VERSION:2.0
PRODID:-//cjfhc.org//NONSGML kigkonsult.se iCalcreator 2.30.10//
CALSCALE:GREGORIAN
METHOD:PUBLISH
UID:61057b1b-607f-4906-8fab-deb775699ba0
X-WR-CALDESC:
X-WR-RELCALID:1baeda919b6a036f6fc0c30d49a631e8
X-WR-TIMEZONE:America/New_York
BEGIN:VTIMEZONE
TZID:America/New_York
BEGIN:STANDARD
TZNAME:EST
DTSTART:20251102T020000
TZOFFSETFROM:-0400
TZOFFSETTO:-0500
RDATE:20261101T020000
RDATE:20271107T020000
END:STANDARD
BEGIN:DAYLIGHT
TZNAME:EDT
DTSTART:20260308T020000
TZOFFSETFROM:-0500
TZOFFSETTO:-0400
RDATE:20270314T020000
END:DAYLIGHT
END:VTIMEZONE
BEGIN:VEVENT
UID:156146fa-67df-4101-9aa2-077e61f72468
DTSTAMP:20260423T150034Z
DESCRIPTION:
DTSTART;TZID=America/New_York:20260713T110000
DTEND;TZID=America/New_York:20260713T120000
LOCATION:
SUMMARY:Mindful Moms
END:VEVENT
END:VCALENDAR
