BEGIN:VCALENDAR
VERSION:2.0
PRODID:-//cjfhc.org//NONSGML kigkonsult.se iCalcreator 2.30.10//
CALSCALE:GREGORIAN
METHOD:PUBLISH
UID:db4065d6-2479-43c5-89b2-60d0242b870f
X-WR-CALDESC:
X-WR-RELCALID:7c6c54dabcee6e4c4f9d7b0b48bf31c9
X-WR-TIMEZONE:America/New_York
BEGIN:VTIMEZONE
TZID:America/New_York
BEGIN:STANDARD
TZNAME:EST
DTSTART:20251102T020000
TZOFFSETFROM:-0400
TZOFFSETTO:-0500
RDATE:20261101T020000
RDATE:20271107T020000
END:STANDARD
BEGIN:DAYLIGHT
TZNAME:EDT
DTSTART:20260308T020000
TZOFFSETFROM:-0500
TZOFFSETTO:-0400
RDATE:20270314T020000
END:DAYLIGHT
END:VTIMEZONE
BEGIN:VEVENT
UID:ef46911e-376a-4ad9-979c-80d87efc2ffd
DTSTAMP:20260423T145904Z
DESCRIPTION:
DTSTART;TZID=America/New_York:20260720T110000
DTEND;TZID=America/New_York:20260720T120000
LOCATION:
SUMMARY:Mindful Moms
END:VEVENT
END:VCALENDAR
