BEGIN:VCALENDAR
VERSION:2.0
PRODID:-//cjfhc.org//NONSGML kigkonsult.se iCalcreator 2.30.10//
CALSCALE:GREGORIAN
METHOD:PUBLISH
UID:ff29c3f4-917b-400f-b8f7-c391f72b939f
X-WR-CALDESC:REGISTRATION:  https://us06web.zoom.us/meeting/register/04HXar
 cYRL6nTWqiX1-0AA#/registration\n\nGrupo de Apoyo Semanal para Madres. Porq
 ue tu bienestar emocional es importante—únete a nuestra comunidad cálida y
  comprensiva. Participa en 3 secciones consecutivas. Obtén una tarjeta de 
 regalo de Walmart\, disponible hasta agotar existencias.
X-WR-RELCALID:88e0f5138ffca37deb069fcc8b631b1d
X-WR-TIMEZONE:America/New_York
BEGIN:VTIMEZONE
TZID:America/New_York
BEGIN:STANDARD
TZNAME:EST
DTSTART:20251102T020000
TZOFFSETFROM:-0400
TZOFFSETTO:-0500
RDATE:20261101T020000
RDATE:20271107T020000
END:STANDARD
BEGIN:DAYLIGHT
TZNAME:EDT
DTSTART:20260308T020000
TZOFFSETFROM:-0500
TZOFFSETTO:-0400
RDATE:20270314T020000
END:DAYLIGHT
END:VTIMEZONE
BEGIN:VEVENT
UID:60132dda-c886-4cea-af61-421fc4fedf3b
DTSTAMP:20260423T162139Z
DESCRIPTION:REGISTRATION:  https://us06web.zoom.us/meeting/register/04HXarc
 YRL6nTWqiX1-0AA#/registration\n\nGrupo de Apoyo Semanal para Madres. Porqu
 e tu bienestar emocional es importante—únete a nuestra comunidad cálida y 
 comprensiva. Participa en 3 secciones consecutivas. Obtén una tarjeta de r
 egalo de Walmart\, disponible hasta agotar existencias.
DTSTART;TZID=America/New_York:20260721T133000
DTEND;TZID=America/New_York:20260721T143000
LOCATION:
SUMMARY:Circulo Maternal
END:VEVENT
END:VCALENDAR
