BEGIN:VCALENDAR
VERSION:2.0
PRODID:-//cjfhc.org//NONSGML kigkonsult.se iCalcreator 2.30.10//
CALSCALE:GREGORIAN
METHOD:PUBLISH
UID:4a1fe97a-6dae-49fa-8c96-e1867dc73364
X-WR-CALDESC:
X-WR-RELCALID:f98915ec6c54274f2211a2791a32fec7
X-WR-TIMEZONE:America/New_York
BEGIN:VTIMEZONE
TZID:America/New_York
BEGIN:STANDARD
TZNAME:EST
DTSTART:20251102T020000
TZOFFSETFROM:-0400
TZOFFSETTO:-0500
RDATE:20261101T020000
RDATE:20271107T020000
END:STANDARD
BEGIN:DAYLIGHT
TZNAME:EDT
DTSTART:20260308T020000
TZOFFSETFROM:-0500
TZOFFSETTO:-0400
RDATE:20270314T020000
END:DAYLIGHT
END:VTIMEZONE
BEGIN:VEVENT
UID:a61cf9f8-1112-48d7-b4f4-c307338bf0b8
DTSTAMP:20260423T150210Z
DESCRIPTION:
DTSTART;TZID=America/New_York:20260727T110000
DTEND;TZID=America/New_York:20260727T120000
LOCATION:
SUMMARY:Mindful Moms
END:VEVENT
END:VCALENDAR
