BEGIN:VCALENDAR
VERSION:2.0
PRODID:-//cjfhc.org//NONSGML kigkonsult.se iCalcreator 2.30.10//
CALSCALE:GREGORIAN
METHOD:PUBLISH
UID:c141dc74-7a99-48cc-a522-c91faa66954b
X-WR-CALDESC:
X-WR-RELCALID:53fc76a424d20444106e8c8101871bee
X-WR-TIMEZONE:America/New_York
BEGIN:VTIMEZONE
TZID:America/New_York
BEGIN:STANDARD
TZNAME:EST
DTSTART:20251102T020000
TZOFFSETFROM:-0400
TZOFFSETTO:-0500
RDATE:20261101T020000
RDATE:20271107T020000
END:STANDARD
BEGIN:DAYLIGHT
TZNAME:EDT
DTSTART:20260308T020000
TZOFFSETFROM:-0500
TZOFFSETTO:-0400
RDATE:20270314T020000
END:DAYLIGHT
END:VTIMEZONE
BEGIN:VEVENT
UID:e276796e-81e1-4d34-a2b5-59731be390a3
DTSTAMP:20260423T150020Z
DESCRIPTION:
DTSTART;TZID=America/New_York:20260803T110000
DTEND;TZID=America/New_York:20260803T120000
LOCATION:
SUMMARY:Mindful Moms
END:VEVENT
END:VCALENDAR
