BEGIN:VCALENDAR
VERSION:2.0
PRODID:-//cjfhc.org//NONSGML kigkonsult.se iCalcreator 2.30.10//
CALSCALE:GREGORIAN
METHOD:PUBLISH
UID:0f8732f0-c8a6-4d06-8387-2ca5654924f3
X-WR-CALDESC:
X-WR-RELCALID:335178b5ab4c6b4df71d741bc62d7aae
X-WR-TIMEZONE:America/New_York
BEGIN:VTIMEZONE
TZID:America/New_York
BEGIN:STANDARD
TZNAME:EST
DTSTART:20251102T020000
TZOFFSETFROM:-0400
TZOFFSETTO:-0500
RDATE:20261101T020000
RDATE:20271107T020000
END:STANDARD
BEGIN:DAYLIGHT
TZNAME:EDT
DTSTART:20260308T020000
TZOFFSETFROM:-0500
TZOFFSETTO:-0400
RDATE:20270314T020000
END:DAYLIGHT
END:VTIMEZONE
BEGIN:VEVENT
UID:80ebc4a4-4709-42b3-91bb-f350dba0f32b
DTSTAMP:20260423T162503Z
DESCRIPTION:
DTSTART;TZID=America/New_York:20260810T110000
DTEND;TZID=America/New_York:20260810T120000
LOCATION:
SUMMARY:Mindful Moms
END:VEVENT
END:VCALENDAR
