BEGIN:VCALENDAR
VERSION:2.0
PRODID:-//cjfhc.org//NONSGML kigkonsult.se iCalcreator 2.30.10//
CALSCALE:GREGORIAN
METHOD:PUBLISH
UID:c896dde6-bad6-4a18-b6a4-5e8faae7a555
X-WR-CALDESC:
X-WR-RELCALID:ed116b83d83ed8fe13e6d6e63b637b67
X-WR-TIMEZONE:America/New_York
BEGIN:VTIMEZONE
TZID:America/New_York
BEGIN:STANDARD
TZNAME:EST
DTSTART:20251102T020000
TZOFFSETFROM:-0400
TZOFFSETTO:-0500
RDATE:20261101T020000
RDATE:20271107T020000
END:STANDARD
BEGIN:DAYLIGHT
TZNAME:EDT
DTSTART:20260308T020000
TZOFFSETFROM:-0500
TZOFFSETTO:-0400
RDATE:20270314T020000
END:DAYLIGHT
END:VTIMEZONE
BEGIN:VEVENT
UID:1d160924-41bf-435a-b593-420b9683aef4
DTSTAMP:20260423T150006Z
DESCRIPTION:
DTSTART;TZID=America/New_York:20260824T110000
DTEND;TZID=America/New_York:20260824T120000
LOCATION:
SUMMARY:Mindful Moms
END:VEVENT
END:VCALENDAR
