BEGIN:VCALENDAR
VERSION:2.0
PRODID:-//cjfhc.org//NONSGML kigkonsult.se iCalcreator 2.30.10//
CALSCALE:GREGORIAN
METHOD:PUBLISH
UID:c8c5961c-7074-4c39-b65d-03f96a28dc52
X-WR-CALDESC:REGISTRATION:  https://us06web.zoom.us/meeting/register/04HXar
 cYRL6nTWqiX1-0AA#/registration\n\nJoin The Village for a safe\, supportive
  space where new moms can connect\, share\, and heal together. Attend 3 se
 ssions in a row\, receive a Walmart gift card while supplies last!\nOur gr
 oup offers a nurturing environment to help you navigate your 'new normal' 
 with mindfulness and compassion. Each week we'll check-in\, share our wins
  & struggles\, and dive into a topic in a small intimate group setting.\n
X-WR-RELCALID:6755767cb1d457f4d2e864b93b44a66c
X-WR-TIMEZONE:America/New_York
BEGIN:VTIMEZONE
TZID:America/New_York
BEGIN:STANDARD
TZNAME:EST
DTSTART:20251102T020000
TZOFFSETFROM:-0400
TZOFFSETTO:-0500
RDATE:20261101T020000
RDATE:20271107T020000
END:STANDARD
BEGIN:DAYLIGHT
TZNAME:EDT
DTSTART:20260308T020000
TZOFFSETFROM:-0500
TZOFFSETTO:-0400
RDATE:20270314T020000
END:DAYLIGHT
END:VTIMEZONE
BEGIN:VEVENT
UID:7ee32d3a-bd9c-4396-91cb-193a46bea0c8
DTSTAMP:20260423T163034Z
DESCRIPTION:REGISTRATION:  https://us06web.zoom.us/meeting/register/04HXarc
 YRL6nTWqiX1-0AA#/registration\n\nJoin The Village for a safe\, supportive 
 space where new moms can connect\, share\, and heal together. Attend 3 ses
 sions in a row\, receive a Walmart gift card while supplies last!\nOur gro
 up offers a nurturing environment to help you navigate your 'new normal' w
 ith mindfulness and compassion. Each week we'll check-in\, share our wins 
 & struggles\, and dive into a topic in a small intimate group setting.\n
DTSTART;TZID=America/New_York:20260901T123000
DTEND;TZID=America/New_York:20260901T133000
LOCATION:
SUMMARY:The Village - Emotional Support Group for New Moms
END:VEVENT
END:VCALENDAR
