BEGIN:VCALENDAR
VERSION:2.0
PRODID:-//cjfhc.org//NONSGML kigkonsult.se iCalcreator 2.30.10//
CALSCALE:GREGORIAN
METHOD:PUBLISH
UID:4b95e5a4-450c-4d34-b278-571357925865
X-WR-CALDESC:
X-WR-RELCALID:f7087e9f9f7f127462cbdaee30f84983
X-WR-TIMEZONE:America/New_York
BEGIN:VTIMEZONE
TZID:America/New_York
BEGIN:STANDARD
TZNAME:EST
DTSTART:20251102T020000
TZOFFSETFROM:-0400
TZOFFSETTO:-0500
RDATE:20261101T020000
RDATE:20271107T020000
END:STANDARD
BEGIN:DAYLIGHT
TZNAME:EDT
DTSTART:20260308T020000
TZOFFSETFROM:-0500
TZOFFSETTO:-0400
RDATE:20270314T020000
END:DAYLIGHT
END:VTIMEZONE
BEGIN:VEVENT
UID:867378dd-1941-4162-9546-6fb771e81b89
DTSTAMP:20260423T150033Z
DESCRIPTION:
DTSTART;TZID=America/New_York:20260907T110000
DTEND;TZID=America/New_York:20260907T120000
LOCATION:
SUMMARY:Mindful Moms
END:VEVENT
END:VCALENDAR
