BEGIN:VCALENDAR
VERSION:2.0
PRODID:-//cjfhc.org//NONSGML kigkonsult.se iCalcreator 2.30.10//
CALSCALE:GREGORIAN
METHOD:PUBLISH
UID:eb51eee3-c299-444b-b15e-bade9ea3f9f1
X-WR-CALDESC:
X-WR-RELCALID:4a2e07eab6b0eae78a7b5a6b80bfebf1
X-WR-TIMEZONE:America/New_York
BEGIN:VTIMEZONE
TZID:America/New_York
BEGIN:STANDARD
TZNAME:EST
DTSTART:20251102T020000
TZOFFSETFROM:-0400
TZOFFSETTO:-0500
RDATE:20261101T020000
RDATE:20271107T020000
END:STANDARD
BEGIN:DAYLIGHT
TZNAME:EDT
DTSTART:20260308T020000
TZOFFSETFROM:-0500
TZOFFSETTO:-0400
RDATE:20270314T020000
RDATE:20280312T020000
END:DAYLIGHT
END:VTIMEZONE
BEGIN:VEVENT
UID:f19d2cfd-35aa-4704-ae34-9645a3fc7448
DTSTAMP:20260423T162644Z
DESCRIPTION:
DTSTART;TZID=America/New_York:20260914T110000
DTEND;TZID=America/New_York:20260914T120000
LOCATION:
SUMMARY:Mindful Moms
END:VEVENT
END:VCALENDAR
