BEGIN:VCALENDAR
VERSION:2.0
PRODID:-//cjfhc.org//NONSGML kigkonsult.se iCalcreator 2.30.10//
CALSCALE:GREGORIAN
METHOD:PUBLISH
UID:d9cf2d7b-72d9-44aa-b964-968c826b83d9
X-WR-CALDESC:
X-WR-RELCALID:3a5d5c82bfbf20fbf580ee051caf765c
X-WR-TIMEZONE:America/New_York
BEGIN:VTIMEZONE
TZID:America/New_York
BEGIN:STANDARD
TZNAME:EST
DTSTART:20251102T020000
TZOFFSETFROM:-0400
TZOFFSETTO:-0500
RDATE:20261101T020000
RDATE:20271107T020000
END:STANDARD
BEGIN:DAYLIGHT
TZNAME:EDT
DTSTART:20260308T020000
TZOFFSETFROM:-0500
TZOFFSETTO:-0400
RDATE:20270314T020000
RDATE:20280312T020000
END:DAYLIGHT
END:VTIMEZONE
BEGIN:VEVENT
UID:dbfac689-c41e-4d2b-9dcc-14af93aea9f6
DTSTAMP:20260423T150142Z
DESCRIPTION:
DTSTART;TZID=America/New_York:20260928T110000
DTEND;TZID=America/New_York:20260928T120000
LOCATION:
SUMMARY:Mindful Moms
END:VEVENT
END:VCALENDAR
