BEGIN:VCALENDAR
VERSION:2.0
PRODID:-//cjfhc.org//NONSGML kigkonsult.se iCalcreator 2.30.10//
CALSCALE:GREGORIAN
METHOD:PUBLISH
UID:1c88eaa5-134a-4505-a74d-7bac2a3e82ce
X-WR-CALDESC:REGISTRATION:  https://us06web.zoom.us/meeting/register/04HXar
 cYRL6nTWqiX1-0AA#/registration\n\nGrupo de Apoyo Semanal para Madres. Porq
 ue tu bienestar emocional es importante—únete a nuestra comunidad cálida y
  comprensiva. Participa en 3 secciones consecutivas. Obtén una tarjeta de 
 regalo de Walmart\, disponible hasta agotar existencias.
X-WR-RELCALID:3dc42aad8f7f5263fa38f36f90918e3f
X-WR-TIMEZONE:America/New_York
BEGIN:VTIMEZONE
TZID:America/New_York
BEGIN:STANDARD
TZNAME:EST
DTSTART:20251102T020000
TZOFFSETFROM:-0400
TZOFFSETTO:-0500
RDATE:20261101T020000
RDATE:20271107T020000
END:STANDARD
BEGIN:DAYLIGHT
TZNAME:EDT
DTSTART:20260308T020000
TZOFFSETFROM:-0500
TZOFFSETTO:-0400
RDATE:20270314T020000
RDATE:20280312T020000
END:DAYLIGHT
END:VTIMEZONE
BEGIN:VEVENT
UID:cb2f9f83-abef-408f-8cff-fe7a88a30c45
DTSTAMP:20260423T162147Z
DESCRIPTION:REGISTRATION:  https://us06web.zoom.us/meeting/register/04HXarc
 YRL6nTWqiX1-0AA#/registration\n\nGrupo de Apoyo Semanal para Madres. Porqu
 e tu bienestar emocional es importante—únete a nuestra comunidad cálida y 
 comprensiva. Participa en 3 secciones consecutivas. Obtén una tarjeta de r
 egalo de Walmart\, disponible hasta agotar existencias.
DTSTART;TZID=America/New_York:20260929T133000
DTEND;TZID=America/New_York:20260929T143000
LOCATION:
SUMMARY:Circulo Maternal
END:VEVENT
END:VCALENDAR
