BEGIN:VCALENDAR
VERSION:2.0
PRODID:-//cjfhc.org//NONSGML kigkonsult.se iCalcreator 2.30.10//
CALSCALE:GREGORIAN
METHOD:PUBLISH
UID:747e720a-be7f-41ba-a933-8281ecf78cfc
X-WR-CALDESC:
X-WR-RELCALID:c243ef719cc2c59266b5da8903f1f708
X-WR-TIMEZONE:America/New_York
BEGIN:VTIMEZONE
TZID:America/New_York
BEGIN:STANDARD
TZNAME:EST
DTSTART:20251102T020000
TZOFFSETFROM:-0400
TZOFFSETTO:-0500
RDATE:20261101T020000
RDATE:20271107T020000
END:STANDARD
BEGIN:DAYLIGHT
TZNAME:EDT
DTSTART:20260308T020000
TZOFFSETFROM:-0500
TZOFFSETTO:-0400
RDATE:20270314T020000
RDATE:20280312T020000
END:DAYLIGHT
END:VTIMEZONE
BEGIN:VEVENT
UID:8dcbcf92-2eff-422a-916f-8397449eed50
DTSTAMP:20260423T150308Z
DESCRIPTION:
DTSTART;TZID=America/New_York:20261005T110000
DTEND;TZID=America/New_York:20261005T120000
LOCATION:
SUMMARY:Mindful Moms
END:VEVENT
END:VCALENDAR
