BEGIN:VCALENDAR
VERSION:2.0
PRODID:-//cjfhc.org//NONSGML kigkonsult.se iCalcreator 2.30.10//
CALSCALE:GREGORIAN
METHOD:PUBLISH
UID:1170bfc3-f3a6-4206-9da9-a263c4330eb9
X-WR-CALDESC:
X-WR-RELCALID:b070865b03f1bf66ea2c02c9f1519441
X-WR-TIMEZONE:America/New_York
BEGIN:VTIMEZONE
TZID:America/New_York
BEGIN:STANDARD
TZNAME:EST
DTSTART:20251102T020000
TZOFFSETFROM:-0400
TZOFFSETTO:-0500
RDATE:20261101T020000
RDATE:20271107T020000
END:STANDARD
BEGIN:DAYLIGHT
TZNAME:EDT
DTSTART:20260308T020000
TZOFFSETFROM:-0500
TZOFFSETTO:-0400
RDATE:20270314T020000
RDATE:20280312T020000
END:DAYLIGHT
END:VTIMEZONE
BEGIN:VEVENT
UID:0dce65ad-ad49-4255-86dc-5ce255723b5a
DTSTAMP:20260423T162730Z
DESCRIPTION:
DTSTART;TZID=America/New_York:20261012T110000
DTEND;TZID=America/New_York:20261012T120000
LOCATION:
SUMMARY:Mindful Moms
END:VEVENT
END:VCALENDAR
