BEGIN:VCALENDAR
VERSION:2.0
PRODID:-//cjfhc.org//NONSGML kigkonsult.se iCalcreator 2.30.10//
CALSCALE:GREGORIAN
METHOD:PUBLISH
UID:087de6af-3ad1-4e49-b27f-7c3003c9df97
X-WR-CALDESC:
X-WR-RELCALID:ef142465a285b433dbe957ebdb77f24f
X-WR-TIMEZONE:America/New_York
BEGIN:VTIMEZONE
TZID:America/New_York
BEGIN:STANDARD
TZNAME:EST
DTSTART:20251102T020000
TZOFFSETFROM:-0400
TZOFFSETTO:-0500
RDATE:20261101T020000
RDATE:20271107T020000
END:STANDARD
BEGIN:DAYLIGHT
TZNAME:EDT
DTSTART:20260308T020000
TZOFFSETFROM:-0500
TZOFFSETTO:-0400
RDATE:20270314T020000
RDATE:20280312T020000
END:DAYLIGHT
END:VTIMEZONE
BEGIN:VEVENT
UID:1f81a445-9417-4e68-8ea9-0a985623e37e
DTSTAMP:20260423T162145Z
DESCRIPTION:
DTSTART;TZID=America/New_York:20261019T110000
DTEND;TZID=America/New_York:20261019T120000
LOCATION:
SUMMARY:Mindful Moms
END:VEVENT
END:VCALENDAR
