BEGIN:VCALENDAR
VERSION:2.0
PRODID:-//cjfhc.org//NONSGML kigkonsult.se iCalcreator 2.30.10//
CALSCALE:GREGORIAN
METHOD:PUBLISH
UID:4f065767-d5d7-4a89-aa6b-b9a7651afed3
X-WR-CALDESC:
X-WR-RELCALID:4c2d02599329890a30948de2a83d490a
X-WR-TIMEZONE:America/New_York
BEGIN:VTIMEZONE
TZID:America/New_York
BEGIN:STANDARD
TZNAME:EST
DTSTART:20251102T020000
TZOFFSETFROM:-0400
TZOFFSETTO:-0500
RDATE:20261101T020000
RDATE:20271107T020000
END:STANDARD
BEGIN:DAYLIGHT
TZNAME:EDT
DTSTART:20260308T020000
TZOFFSETFROM:-0500
TZOFFSETTO:-0400
RDATE:20270314T020000
RDATE:20280312T020000
END:DAYLIGHT
END:VTIMEZONE
BEGIN:VEVENT
UID:2ce688c6-1dfb-419c-8b48-95d3d49e82bd
DTSTAMP:20260423T150209Z
DESCRIPTION:
DTSTART;TZID=America/New_York:20261026T110000
DTEND;TZID=America/New_York:20261026T120000
LOCATION:
SUMMARY:Mindful Moms
END:VEVENT
END:VCALENDAR
