BEGIN:VCALENDAR
VERSION:2.0
PRODID:-//cjfhc.org//NONSGML kigkonsult.se iCalcreator 2.30.10//
CALSCALE:GREGORIAN
METHOD:PUBLISH
UID:e19ba2d4-1ed4-420a-bb44-4ced3377b788
X-WR-CALDESC:
X-WR-RELCALID:72a4c12daca8f771b95a28cb43430851
X-WR-TIMEZONE:America/New_York
BEGIN:VTIMEZONE
TZID:America/New_York
BEGIN:STANDARD
TZNAME:EST
DTSTART:20251102T020000
TZOFFSETFROM:-0400
TZOFFSETTO:-0500
RDATE:20261101T020000
RDATE:20271107T020000
END:STANDARD
BEGIN:DAYLIGHT
TZNAME:EDT
DTSTART:20260308T020000
TZOFFSETFROM:-0500
TZOFFSETTO:-0400
RDATE:20270314T020000
RDATE:20280312T020000
END:DAYLIGHT
END:VTIMEZONE
BEGIN:VEVENT
UID:f4c9791a-728e-4706-a142-f5b293d63b7c
DTSTAMP:20260423T162657Z
DESCRIPTION:
DTSTART;TZID=America/New_York:20261102T110000
DTEND;TZID=America/New_York:20261102T120000
LOCATION:
SUMMARY:Mindful Moms
END:VEVENT
END:VCALENDAR
