BEGIN:VCALENDAR
VERSION:2.0
PRODID:-//cjfhc.org//NONSGML kigkonsult.se iCalcreator 2.30.10//
CALSCALE:GREGORIAN
METHOD:PUBLISH
UID:4bde6e83-1f33-4a71-8322-7ca2d9c6a49a
X-WR-CALDESC:
X-WR-RELCALID:256b8da1f4e00d98b0beed4850adf6e0
X-WR-TIMEZONE:America/New_York
BEGIN:VTIMEZONE
TZID:America/New_York
BEGIN:STANDARD
TZNAME:EST
DTSTART:20261101T020000
TZOFFSETFROM:-0400
TZOFFSETTO:-0500
RDATE:20271107T020000
END:STANDARD
BEGIN:DAYLIGHT
TZNAME:EDT
DTSTART:20260308T020000
TZOFFSETFROM:-0500
TZOFFSETTO:-0400
RDATE:20270314T020000
RDATE:20280312T020000
END:DAYLIGHT
END:VTIMEZONE
BEGIN:VEVENT
UID:961dc88e-e505-4425-a342-51430f07a60f
DTSTAMP:20260423T150141Z
DESCRIPTION:
DTSTART;TZID=America/New_York:20261109T110000
DTEND;TZID=America/New_York:20261109T120000
LOCATION:
SUMMARY:Mindful Moms
END:VEVENT
END:VCALENDAR
