BEGIN:VCALENDAR
VERSION:2.0
PRODID:-//cjfhc.org//NONSGML kigkonsult.se iCalcreator 2.30.10//
CALSCALE:GREGORIAN
METHOD:PUBLISH
UID:9d1dc5a9-d60c-4d68-91fd-6e186e9a8165
X-WR-CALDESC:
X-WR-RELCALID:84e446ae2f931eb416d34f93e1e5fe67
X-WR-TIMEZONE:America/New_York
BEGIN:VTIMEZONE
TZID:America/New_York
BEGIN:STANDARD
TZNAME:EST
DTSTART:20261101T020000
TZOFFSETFROM:-0400
TZOFFSETTO:-0500
RDATE:20271107T020000
END:STANDARD
BEGIN:DAYLIGHT
TZNAME:EDT
DTSTART:20260308T020000
TZOFFSETFROM:-0500
TZOFFSETTO:-0400
RDATE:20270314T020000
RDATE:20280312T020000
END:DAYLIGHT
END:VTIMEZONE
BEGIN:VEVENT
UID:b3c90ca7-4092-45ba-8b09-6994532749c3
DTSTAMP:20260423T162657Z
DESCRIPTION:
DTSTART;TZID=America/New_York:20261116T110000
DTEND;TZID=America/New_York:20261116T120000
LOCATION:
SUMMARY:Mindful Moms
END:VEVENT
END:VCALENDAR
