BEGIN:VCALENDAR
VERSION:2.0
PRODID:-//cjfhc.org//NONSGML kigkonsult.se iCalcreator 2.30.10//
CALSCALE:GREGORIAN
METHOD:PUBLISH
UID:dcfecaff-316b-4cf4-bd6a-0c5918c4bd09
X-WR-CALDESC:
X-WR-RELCALID:2d7a2d76f8421f11c5f14d5c6dec452c
X-WR-TIMEZONE:America/New_York
BEGIN:VTIMEZONE
TZID:America/New_York
BEGIN:STANDARD
TZNAME:EST
DTSTART:20261101T020000
TZOFFSETFROM:-0400
TZOFFSETTO:-0500
RDATE:20271107T020000
END:STANDARD
BEGIN:DAYLIGHT
TZNAME:EDT
DTSTART:20260308T020000
TZOFFSETFROM:-0500
TZOFFSETTO:-0400
RDATE:20270314T020000
RDATE:20280312T020000
END:DAYLIGHT
END:VTIMEZONE
BEGIN:VEVENT
UID:d1472842-d02e-4b7e-a6e8-f4379dc62c0d
DTSTAMP:20260423T150204Z
DESCRIPTION:
DTSTART;TZID=America/New_York:20261123T110000
DTEND;TZID=America/New_York:20261123T120000
LOCATION:
SUMMARY:Mindful Moms
END:VEVENT
END:VCALENDAR
