BEGIN:VCALENDAR
VERSION:2.0
PRODID:-//cjfhc.org//NONSGML kigkonsult.se iCalcreator 2.30.10//
CALSCALE:GREGORIAN
METHOD:PUBLISH
UID:ea95c3ef-b7e3-474b-ac80-668ff8d9e051
X-WR-CALDESC:
X-WR-RELCALID:4d3c4f61f0338731ef7d54dbeaa17252
X-WR-TIMEZONE:America/New_York
BEGIN:VTIMEZONE
TZID:America/New_York
BEGIN:STANDARD
TZNAME:EST
DTSTART:20261101T020000
TZOFFSETFROM:-0400
TZOFFSETTO:-0500
RDATE:20271107T020000
END:STANDARD
BEGIN:DAYLIGHT
TZNAME:EDT
DTSTART:20260308T020000
TZOFFSETFROM:-0500
TZOFFSETTO:-0400
RDATE:20270314T020000
RDATE:20280312T020000
END:DAYLIGHT
END:VTIMEZONE
BEGIN:VEVENT
UID:a9a7bb72-b5b9-4fb5-93cf-0d1ae2718597
DTSTAMP:20260423T150309Z
DESCRIPTION:
DTSTART;TZID=America/New_York:20261130T110000
DTEND;TZID=America/New_York:20261130T120000
LOCATION:
SUMMARY:Mindful Moms
END:VEVENT
END:VCALENDAR
