BEGIN:VCALENDAR
VERSION:2.0
PRODID:-//cjfhc.org//NONSGML kigkonsult.se iCalcreator 2.30.10//
CALSCALE:GREGORIAN
METHOD:PUBLISH
UID:c55f9496-9646-4bae-b76e-5d941b911d2b
X-WR-CALDESC:
X-WR-RELCALID:af5dbf5e24a00ff4797f303f40a7062c
X-WR-TIMEZONE:America/New_York
BEGIN:VTIMEZONE
TZID:America/New_York
BEGIN:STANDARD
TZNAME:EST
DTSTART:20261101T020000
TZOFFSETFROM:-0400
TZOFFSETTO:-0500
RDATE:20271107T020000
END:STANDARD
BEGIN:DAYLIGHT
TZNAME:EDT
DTSTART:20260308T020000
TZOFFSETFROM:-0500
TZOFFSETTO:-0400
RDATE:20270314T020000
RDATE:20280312T020000
END:DAYLIGHT
END:VTIMEZONE
BEGIN:VEVENT
UID:47076487-1db9-4069-80a8-f1e20b1b50c1
DTSTAMP:20260423T150210Z
DESCRIPTION:
DTSTART;TZID=America/New_York:20261207T110000
DTEND;TZID=America/New_York:20261207T120000
LOCATION:
SUMMARY:Mindful Moms
END:VEVENT
END:VCALENDAR
