BEGIN:VCALENDAR
VERSION:2.0
PRODID:-//cjfhc.org//NONSGML kigkonsult.se iCalcreator 2.30.10//
CALSCALE:GREGORIAN
METHOD:PUBLISH
UID:3855e092-fa18-4063-9c80-410a2c17fc03
X-WR-CALDESC:
X-WR-RELCALID:a9dc7426c9a4ef8d7055fe4e6422766f
X-WR-TIMEZONE:America/New_York
BEGIN:VTIMEZONE
TZID:America/New_York
BEGIN:STANDARD
TZNAME:EST
DTSTART:20261101T020000
TZOFFSETFROM:-0400
TZOFFSETTO:-0500
RDATE:20271107T020000
END:STANDARD
BEGIN:DAYLIGHT
TZNAME:EDT
DTSTART:20260308T020000
TZOFFSETFROM:-0500
TZOFFSETTO:-0400
RDATE:20270314T020000
RDATE:20280312T020000
END:DAYLIGHT
END:VTIMEZONE
BEGIN:VEVENT
UID:d9d48e93-21b3-42ce-84f0-b2415b9d9293
DTSTAMP:20260423T162656Z
DESCRIPTION:
DTSTART;TZID=America/New_York:20261214T110000
DTEND;TZID=America/New_York:20261214T120000
LOCATION:
SUMMARY:Mindful Moms
END:VEVENT
END:VCALENDAR
