BEGIN:VCALENDAR
VERSION:2.0
PRODID:-//cjfhc.org//NONSGML kigkonsult.se iCalcreator 2.30.10//
CALSCALE:GREGORIAN
METHOD:PUBLISH
UID:2b1012b7-35bc-4617-a323-1c4d49f557bf
X-WR-CALDESC:
X-WR-RELCALID:8a026005d2e4a291a549ae715e522018
X-WR-TIMEZONE:America/New_York
BEGIN:VTIMEZONE
TZID:America/New_York
BEGIN:STANDARD
TZNAME:EST
DTSTART:20261101T020000
TZOFFSETFROM:-0400
TZOFFSETTO:-0500
RDATE:20271107T020000
END:STANDARD
BEGIN:DAYLIGHT
TZNAME:EDT
DTSTART:20260308T020000
TZOFFSETFROM:-0500
TZOFFSETTO:-0400
RDATE:20270314T020000
RDATE:20280312T020000
END:DAYLIGHT
END:VTIMEZONE
BEGIN:VEVENT
UID:c5637a5c-b45e-41c2-821f-f98478799254
DTSTAMP:20260423T162658Z
DESCRIPTION:
DTSTART;TZID=America/New_York:20261228T110000
DTEND;TZID=America/New_York:20261228T120000
LOCATION:
SUMMARY:Mindful Moms
END:VEVENT
END:VCALENDAR
