BEGIN:VCALENDAR
VERSION:2.0
PRODID:-//cjfhc.org//NONSGML kigkonsult.se iCalcreator 2.30.10//
CALSCALE:GREGORIAN
METHOD:PUBLISH
UID:875e0655-2c0b-45ae-a96e-a439cb984ee7
X-WR-CALDESC:
X-WR-RELCALID:a3db2e36a6b7909e30f33269d4354642
X-WR-TIMEZONE:America/New_York
BEGIN:VTIMEZONE
TZID:America/New_York
BEGIN:STANDARD
TZNAME:EST
DTSTART:20251102T020000
TZOFFSETFROM:-0400
TZOFFSETTO:-0500
RDATE:20261101T020000
END:STANDARD
BEGIN:DAYLIGHT
TZNAME:EDT
DTSTART:20260308T020000
TZOFFSETFROM:-0500
TZOFFSETTO:-0400
RDATE:20270314T020000
END:DAYLIGHT
END:VTIMEZONE
BEGIN:VEVENT
UID:8245e547-6d5e-4734-81c3-aa5d84cc3e41
DTSTAMP:20260419T191933Z
DESCRIPTION:
DTSTART;TZID=America/New_York:20260422T083000
DTEND;TZID=America/New_York:20260422T150000
LOCATION:Forsgate Country Club\, 375 Forsgate Drive\, Monroe\, NJ 08831 US
SUMMARY:Re-Imagining Perinatal Wellness:  Supporting Every Family\, Every J
 ourney - A Few Spots Remaining!
END:VEVENT
END:VCALENDAR
