BEGIN:VCALENDAR
VERSION:2.0
PRODID:-//cjfhc.org//NONSGML kigkonsult.se iCalcreator 2.30.10//
CALSCALE:GREGORIAN
METHOD:PUBLISH
UID:a86557f3-9fc8-4b76-83c7-96d72973f437
X-WR-CALDESC:Register Here: https://forms.office.com/r/pJep51D3G3\n\nJoin u
 s for a supportive\, in-person session focused on perinatal mental health 
 among Black mothers and birthing people. This session includes guided jour
 naling\, discussion\, and connections to culturally responsive resources. 
 \n________________________________________\n\nðŸ–¤You deserve space to be hea
 rd.\nJoin us this Black Maternal Health Month for a meaningful conversatio
 n on mental health\, healing\, and support for Black mothers and birthing 
 people. ðŸ’¬œ¨\nIncludes journaling\, reflection\, and resources.\nðŸ”—Save your s
 pot\n#BlackMaternalHealth #MomSpace #MaternalMentalHealth\n_______________
 _________________________\n\n
X-WR-RELCALID:665dcba9bb6e4cb245ebba4bbdfcae22
X-WR-TIMEZONE:America/New_York
BEGIN:VTIMEZONE
TZID:America/New_York
BEGIN:STANDARD
TZNAME:EST
DTSTART:20251102T020000
TZOFFSETFROM:-0400
TZOFFSETTO:-0500
RDATE:20261101T020000
END:STANDARD
BEGIN:DAYLIGHT
TZNAME:EDT
DTSTART:20260308T020000
TZOFFSETFROM:-0500
TZOFFSETTO:-0400
RDATE:20270314T020000
END:DAYLIGHT
END:VTIMEZONE
BEGIN:VEVENT
UID:0ed39f5b-9c69-42f9-80a6-28b4bf36e49e
DTSTAMP:20260419T190201Z
DESCRIPTION:Register Here: https://forms.office.com/r/pJep51D3G3\n\nJoin us
  for a supportive\, in-person session focused on perinatal mental health a
 mong Black mothers and birthing people. This session includes guided journ
 aling\, discussion\, and connections to culturally responsive resources. 
 \n________________________________________\n\nðŸ–¤You deserve space to be hea
 rd.\nJoin us this Black Maternal Health Month for a meaningful conversatio
 n on mental health\, healing\, and support for Black mothers and birthing 
 people. ðŸ’¬œ¨\nIncludes journaling\, reflection\, and resources.\nðŸ”—Save your s
 pot\n#BlackMaternalHealth #MomSpace #MaternalMentalHealth\n_______________
 _________________________\n\n
DTSTART;TZID=America/New_York:20260423T140000
DTEND;TZID=America/New_York:20260423T150000
LOCATION:Somerset County Business Partnership\, 50 Division Street\, Suite 
 400\, Somerville\, NJ 08876 US
SUMMARY:Mom Space: Black Maternal Mental Health Month (In Person)
END:VEVENT
END:VCALENDAR
